BEGIN:VCALENDAR
VERSION:2.0
PRODID:-//Nickel City Roller Derby (NCRD) - ECPv6.6.0.2//NONSGML v1.0//EN
CALSCALE:GREGORIAN
METHOD:PUBLISH
X-WR-CALNAME:Nickel City Roller Derby (NCRD)
X-ORIGINAL-URL:https://ncrd.ca
X-WR-CALDESC:Events for Nickel City Roller Derby (NCRD)
REFRESH-INTERVAL;VALUE=DURATION:PT1H
X-Robots-Tag:noindex
X-PUBLISHED-TTL:PT1H
BEGIN:VTIMEZONE
TZID:America/Toronto
BEGIN:DAYLIGHT
TZOFFSETFROM:-0500
TZOFFSETTO:-0400
TZNAME:EDT
DTSTART:20250309T070000
END:DAYLIGHT
BEGIN:STANDARD
TZOFFSETFROM:-0400
TZOFFSETTO:-0500
TZNAME:EST
DTSTART:20251102T060000
END:STANDARD
END:VTIMEZONE
BEGIN:VEVENT
DTSTART;TZID=America/Toronto:20250524T080000
DTEND;TZID=America/Toronto:20250524T170000
DTSTAMP:20260421T003208
CREATED:20250207T160236Z
LAST-MODIFIED:20250207T160236Z
UID:1540-1748073600-1748106000@ncrd.ca
SUMMARY:NCRD Away Game with Nipissing Roller Derby
DESCRIPTION:Sudbury’s home team the Nickels and Dames of Nickel City Roller Derby will be bouting in a double header hosted by Nipissing Roller Derby!\nThis is an away game. Nipissing Roller Derby will have their own event details and guest ticket pricing.  \n 
URL:https://ncrd.ca/event/ncrd-away-game-with-nipissing-roller-derby/
LOCATION:Ontario
CATEGORIES:Roller Derby Bout
ATTACH;FMTTYPE=image/jpeg:https://ncrd.ca/wp-content/uploads/2025/02/Nipissing-roller-derby-1.jpg
END:VEVENT
END:VCALENDAR