BEGIN:VCALENDAR
VERSION:2.0
PRODID:-//Nickel City Roller Derby (NCRD) - ECPv6.6.0.2//NONSGML v1.0//EN
CALSCALE:GREGORIAN
METHOD:PUBLISH
X-WR-CALNAME:Nickel City Roller Derby (NCRD)
X-ORIGINAL-URL:https://ncrd.ca
X-WR-CALDESC:Events for Nickel City Roller Derby (NCRD)
REFRESH-INTERVAL;VALUE=DURATION:PT1H
X-Robots-Tag:noindex
X-PUBLISHED-TTL:PT1H
BEGIN:VTIMEZONE
TZID:America/Toronto
BEGIN:DAYLIGHT
TZOFFSETFROM:-0500
TZOFFSETTO:-0400
TZNAME:EDT
DTSTART:20250309T070000
END:DAYLIGHT
BEGIN:STANDARD
TZOFFSETFROM:-0400
TZOFFSETTO:-0500
TZNAME:EST
DTSTART:20251102T060000
END:STANDARD
END:VTIMEZONE
BEGIN:VEVENT
DTSTART;TZID=America/Toronto:20250913T170000
DTEND;TZID=America/Toronto:20250913T213000
DTSTAMP:20260420T190118
CREATED:20250207T160750Z
LAST-MODIFIED:20250625T131413Z
UID:1544-1757782800-1757799000@ncrd.ca
SUMMARY:NCRD Away Game VS South Simcoe Rebel Rollers in Coldwater
DESCRIPTION:Sudbury’s home team the Nickels and Dames of Nickel City Roller Derby will be bouting against the South Simcoe Rebel Rollers in Coldwater!\nThis is an away game. The host league will have their own event details and guest ticket pricing.  \nThe South Simcoe Rebel Rollers are planning a Roller Derby Event during the Coldwater Steam Punk Festival\n5 PM GAME 1 – South Simcoe Rebel Rollers vs Nickel City Roller Derby7 PM GAME 2 – Georgina Roller Derby vs Grey Bruce Roller Derby
URL:https://ncrd.ca/event/ncrd-away-game-vs-south-simcoe-rebel-rollers-in-coldwater/
LOCATION:Coldwater Arena\, 9 Michael Anne Dr.\, Severn\, Ontario\, L0K 1E0\, Canada
CATEGORIES:Roller Derby Bout
ATTACH;FMTTYPE=image/jpeg:https://ncrd.ca/wp-content/uploads/2025/02/roller-derby-sept-13-25.jpg
END:VEVENT
END:VCALENDAR