BEGIN:VCALENDAR
VERSION:2.0
PRODID:-//Nickel City Roller Derby (NCRD) - ECPv6.6.0.2//NONSGML v1.0//EN
CALSCALE:GREGORIAN
METHOD:PUBLISH
X-ORIGINAL-URL:https://ncrd.ca
X-WR-CALDESC:Events for Nickel City Roller Derby (NCRD)
REFRESH-INTERVAL;VALUE=DURATION:PT1H
X-Robots-Tag:noindex
X-PUBLISHED-TTL:PT1H
BEGIN:VTIMEZONE
TZID:America/Toronto
BEGIN:DAYLIGHT
TZOFFSETFROM:-0500
TZOFFSETTO:-0400
TZNAME:EDT
DTSTART:20250309T070000
END:DAYLIGHT
BEGIN:STANDARD
TZOFFSETFROM:-0400
TZOFFSETTO:-0500
TZNAME:EST
DTSTART:20251102T060000
END:STANDARD
END:VTIMEZONE
BEGIN:VEVENT
DTSTART;TZID=America/Toronto:20250322T190000
DTEND;TZID=America/Toronto:20250322T210000
DTSTAMP:20260421T044539
CREATED:20250207T162009Z
LAST-MODIFIED:20250207T162009Z
UID:1548-1742670000-1742677200@ncrd.ca
SUMMARY:NCRD Half Time Show with the Sudbury Five
DESCRIPTION:Double the Action\, Double the Fun—Support TWO Local Teams in ONE Epic Night! \n\n\nGet ready for double the excitement as Nickel City Roller Derby and Sudbury Five team up for one unforgettable night!\n\n\n\n\n\nWatch The Sudbury Five take on the Glass City Wranglers\, and stick around for a roller derby halftime show featuring your favourite hard-hitting skaters from NCRD!\n\n\n\nSupport TWO local teams at once! Every ticket sold helps NCRD keep roller derby affordable\, accessible\, and awesome for skaters of all skill levels.\n\n\n\nDeadline for ticket sales & payment: March 5 @ 5:00 PM.\nSecure your seat by filling out the order form and sending payment within 24 hours. Details provided upon submission.
URL:https://ncrd.ca/event/ncrd-half-time-show-with-the-sudbury-five/
LOCATION:sudbury community arena\, 240 Elgin St.\, Sudbury\, ON\, P3E 3N6\, Canada
CATEGORIES:Roller Derby Bout
ATTACH;FMTTYPE=image/jpeg:https://ncrd.ca/wp-content/uploads/2025/02/NCRD-sudbury-5-basketball.jpg
END:VEVENT
END:VCALENDAR