BEGIN:VCALENDAR
VERSION:2.0
PRODID:-//Nickel City Roller Derby (NCRD) - ECPv6.6.0.2//NONSGML v1.0//EN
CALSCALE:GREGORIAN
METHOD:PUBLISH
X-ORIGINAL-URL:https://ncrd.ca
X-WR-CALDESC:Events for Nickel City Roller Derby (NCRD)
REFRESH-INTERVAL;VALUE=DURATION:PT1H
X-Robots-Tag:noindex
X-PUBLISHED-TTL:PT1H
BEGIN:VTIMEZONE
TZID:America/Toronto
BEGIN:DAYLIGHT
TZOFFSETFROM:-0500
TZOFFSETTO:-0400
TZNAME:EDT
DTSTART:20250309T070000
END:DAYLIGHT
BEGIN:STANDARD
TZOFFSETFROM:-0400
TZOFFSETTO:-0500
TZNAME:EST
DTSTART:20251102T060000
END:STANDARD
END:VTIMEZONE
BEGIN:VEVENT
DTSTART;TZID=America/Toronto:20250816T190000
DTEND;TZID=America/Toronto:20250816T203000
DTSTAMP:20260420T215018
CREATED:20250207T153417Z
LAST-MODIFIED:20250703T202643Z
UID:1532-1755370800-1755376200@ncrd.ca
SUMMARY:NCRD Nickel and Dames VS Niagara Roller Derby
DESCRIPTION:Join in and cheer on Sudbury’s home team the Nickels and Dames of Nickel City Roller Derby as they battle it out on the track VS Niagara Roller Derby. \n\nEach period will be 30 minutes with a 15-minute half-time.\nBar and restaurant available on the upper floor of the curling club.\n\nMark your calendars — Saturday\, August 16th at 7:00 PM\, the track is heating up as the NCRD Nickels and Dames take on the Niagara Garden City Rollers in a fast-paced\, family-friendly roller derby showdown you won’t want to miss!\n\nWhether you’re a long-time derby fan or just curious what the buzz is all about\, this is the perfect night out. Expect hard hits\, quick turns\, and tons of action — all in the spirit of good fun and community spirit.\n\nWhy You Should Be There:\nHigh-energy roller derby action\nFun for all ages\nA chance to support local athletes and community sport\nBring your friends\, bring your kids\, bring your loudest cheer — and don’t forget to wear your team colors! Roller derby is more than just a game — it’s a community\, and everyone’s invited.\n\nDoors open at 6:30 PM\, and the first whistle blows at 7 PM sharp!\n\nPurchase your tickets in advance here. 
URL:https://ncrd.ca/event/ncrd-nickel-and-dames-vs-niagara-roller-derby/
LOCATION:NORTHERN CREDIT UNION COMMUNITY CENTRE\, 300 Wessex Street\, Sudbury\, Ontario\, P3B 0G7\, Canada
CATEGORIES:Roller Derby Bout
ATTACH;FMTTYPE=image/jpeg:https://ncrd.ca/wp-content/uploads/2025/02/NCRD-August-16-bout-poster-scaled.jpg
ORGANIZER;CN="NCRD Nickel City Roller Derby":MAILTO:info@ncrd.ca
END:VEVENT
END:VCALENDAR