BEGIN:VCALENDAR
VERSION:2.0
PRODID:-//Nickel City Roller Derby (NCRD) - ECPv6.6.0.2//NONSGML v1.0//EN
CALSCALE:GREGORIAN
METHOD:PUBLISH
X-ORIGINAL-URL:https://ncrd.ca
X-WR-CALDESC:Events for Nickel City Roller Derby (NCRD)
REFRESH-INTERVAL;VALUE=DURATION:PT1H
X-Robots-Tag:noindex
X-PUBLISHED-TTL:PT1H
BEGIN:VTIMEZONE
TZID:America/Toronto
BEGIN:DAYLIGHT
TZOFFSETFROM:-0500
TZOFFSETTO:-0400
TZNAME:EDT
DTSTART:20250309T070000
END:DAYLIGHT
BEGIN:STANDARD
TZOFFSETFROM:-0400
TZOFFSETTO:-0500
TZNAME:EST
DTSTART:20251102T060000
END:STANDARD
END:VTIMEZONE
BEGIN:VEVENT
DTSTART;VALUE=DATE:20251116
DTEND;VALUE=DATE:20251117
DTSTAMP:20260420T174408
CREATED:20250624T202837Z
LAST-MODIFIED:20250624T203135Z
UID:1581-1763251200-1763337599@ncrd.ca
SUMMARY:NCRD VS the Renegade Derby Dames in Alliston
DESCRIPTION:NCRD will represent Sudbury in Alliston\, Ontario \nCome join us in Alliston! More info to be shared soon..
URL:https://ncrd.ca/event/1581/
LOCATION:alliston ontario
CATEGORIES:Roller Derby Bout
ATTACH;FMTTYPE=image/png:https://ncrd.ca/wp-content/uploads/2025/05/NCRD-logo-2025-2.png
END:VEVENT
END:VCALENDAR