BEGIN:VCALENDAR
VERSION:2.0
PRODID:-//Nickel City Roller Derby (NCRD) - ECPv6.6.0.2//NONSGML v1.0//EN
CALSCALE:GREGORIAN
METHOD:PUBLISH
X-WR-CALNAME:Nickel City Roller Derby (NCRD)
X-ORIGINAL-URL:https://ncrd.ca
X-WR-CALDESC:Events for Nickel City Roller Derby (NCRD)
REFRESH-INTERVAL;VALUE=DURATION:PT1H
X-Robots-Tag:noindex
X-PUBLISHED-TTL:PT1H
BEGIN:VTIMEZONE
TZID:America/Toronto
BEGIN:DAYLIGHT
TZOFFSETFROM:-0500
TZOFFSETTO:-0400
TZNAME:EDT
DTSTART:20250309T070000
END:DAYLIGHT
BEGIN:STANDARD
TZOFFSETFROM:-0400
TZOFFSETTO:-0500
TZNAME:EST
DTSTART:20251102T060000
END:STANDARD
END:VTIMEZONE
BEGIN:VEVENT
DTSTART;TZID=America/Toronto:20250905T190000
DTEND;TZID=America/Toronto:20250905T220000
DTSTAMP:20260421T234753
CREATED:20250207T154312Z
LAST-MODIFIED:20250207T160920Z
UID:1535-1757098800-1757109600@ncrd.ca
SUMMARY:NCRD Roller Skaters Reunion - Private Event
DESCRIPTION:Private event:  \nPast NCRD roller derby players\, referees\, and NSO alumni are welcome to join us for our ‘high school’ reunion disco skate!\n\nSold your skates? Don’t worry we will have our rentals available.\nExpect lights\, music\, and roller skating. Don’t worry we won’t be doing any roller derby drills or hits. This event is to reminisce on old times\, have fun\, and most importantly roller skate!\nFood and bar will be available on the upper floor. There will also likely be cake\, because why not!\n\n  \n 
URL:https://ncrd.ca/event/ncrd-roller-skaters-reunion-private-event/
LOCATION:NORTHERN CREDIT UNION COMMUNITY CENTRE\, 300 Wessex Street\, Sudbury\, Ontario\, P3B 0G7\, Canada
CATEGORIES:Roller Disco
ATTACH;FMTTYPE=image/jpeg:https://ncrd.ca/wp-content/uploads/2017/03/march15event.jpg
ORGANIZER;CN="NCRD Nickel City Roller Derby":MAILTO:info@ncrd.ca
END:VEVENT
END:VCALENDAR