BEGIN:VCALENDAR
VERSION:2.0
PRODID:-//Nickel City Roller Derby (NCRD) - ECPv6.6.0.2//NONSGML v1.0//EN
CALSCALE:GREGORIAN
METHOD:PUBLISH
X-ORIGINAL-URL:https://ncrd.ca
X-WR-CALDESC:Events for Nickel City Roller Derby (NCRD)
REFRESH-INTERVAL;VALUE=DURATION:PT1H
X-Robots-Tag:noindex
X-PUBLISHED-TTL:PT1H
BEGIN:VTIMEZONE
TZID:America/Toronto
BEGIN:DAYLIGHT
TZOFFSETFROM:-0500
TZOFFSETTO:-0400
TZNAME:EDT
DTSTART:20260308T070000
END:DAYLIGHT
BEGIN:STANDARD
TZOFFSETFROM:-0400
TZOFFSETTO:-0500
TZNAME:EST
DTSTART:20261101T060000
END:STANDARD
END:VTIMEZONE
BEGIN:VEVENT
DTSTART;TZID=America/Toronto:20260821T193000
DTEND;TZID=America/Toronto:20260821T213000
DTSTAMP:20260423T030230
CREATED:20260313T184005Z
LAST-MODIFIED:20260313T184005Z
UID:1667-1787340600-1787347800@ncrd.ca
SUMMARY:Roller Disco - Open Roller Skate Night - August 21
DESCRIPTION:Music. Lights. Roller Skate! \nCome roller disco skate with us. \n\nAll ages & family friendly\nMake it a date night <3\nRoller skates\, rollerblades\, and protective gear available\nOnly $15! (payments via cash or e-transfer sent to finances@ncrd.ca)\n\nProceeds from our Roller Disco help fund Nickel City Roller Derby. \nRoller skate rental sizes are first come first served. We encourage you to bring your own helmet as well. 
URL:https://ncrd.ca/event/roller-disco-open-roller-skate-night-august-21/
LOCATION:NORTHERN CREDIT UNION COMMUNITY CENTRE\, 300 Wessex Street\, Sudbury\, Ontario\, P3B 0G7\, Canada
CATEGORIES:Roller Disco
ATTACH;FMTTYPE=image/jpeg:https://ncrd.ca/wp-content/uploads/2026/03/7.jpg
ORGANIZER;CN="NCRD Nickel City Roller Derby":MAILTO:info@ncrd.ca
END:VEVENT
END:VCALENDAR