BEGIN:VCALENDAR
VERSION:2.0
PRODID:-//Nickel City Roller Derby (NCRD) - ECPv6.6.0.2//NONSGML v1.0//EN
CALSCALE:GREGORIAN
METHOD:PUBLISH
X-WR-CALNAME:Nickel City Roller Derby (NCRD)
X-ORIGINAL-URL:https://ncrd.ca
X-WR-CALDESC:Events for Nickel City Roller Derby (NCRD)
REFRESH-INTERVAL;VALUE=DURATION:PT1H
X-Robots-Tag:noindex
X-PUBLISHED-TTL:PT1H
BEGIN:VTIMEZONE
TZID:America/Toronto
BEGIN:DAYLIGHT
TZOFFSETFROM:-0500
TZOFFSETTO:-0400
TZNAME:EDT
DTSTART:20260308T070000
END:DAYLIGHT
BEGIN:STANDARD
TZOFFSETFROM:-0400
TZOFFSETTO:-0500
TZNAME:EST
DTSTART:20261101T060000
END:STANDARD
END:VTIMEZONE
BEGIN:VEVENT
DTSTART;TZID=America/Toronto:20260508T193000
DTEND;TZID=America/Toronto:20260508T213000
DTSTAMP:20260421T102711
CREATED:20260313T183111Z
LAST-MODIFIED:20260313T183111Z
UID:1659-1778268600-1778275800@ncrd.ca
SUMMARY:Roller Disco - Open Roller Skate Night - May 8
DESCRIPTION:Music. Lights. Roller Skate! \nCome roller disco skate with us. \n\nAll ages & family friendly\nMake it a date night <3\nRoller skates\, rollerblades\, and protective gear available\nOnly $15! (payments via cash or e-transfer sent to finances@ncrd.ca)\n\nProceeds from our Roller Disco help fund Nickel City Roller Derby. \nRoller skate rental sizes are first come first served. We encourage you to bring your own helmet as well. 
URL:https://ncrd.ca/event/roller-disco-open-roller-skate-night-may-8/
LOCATION:NORTHERN CREDIT UNION COMMUNITY CENTRE\, 300 Wessex Street\, Sudbury\, Ontario\, P3B 0G7\, Canada
CATEGORIES:Roller Disco
ATTACH;FMTTYPE=image/jpeg:https://ncrd.ca/wp-content/uploads/2026/03/7.jpg
ORGANIZER;CN="NCRD Nickel City Roller Derby":MAILTO:info@ncrd.ca
END:VEVENT
BEGIN:VEVENT
DTSTART;TZID=America/Toronto:20260509T190000
DTEND;TZID=America/Toronto:20260509T210000
DTSTAMP:20260421T102711
CREATED:20260313T184915Z
LAST-MODIFIED:20260313T184915Z
UID:1671-1778353200-1778360400@ncrd.ca
SUMMARY:HOME GAME - NCRD VS  Renegade Derby Dames of Alliston
DESCRIPTION:A mixed-level Sudbury team will be facing a mixed-level Renegade Derby Dames team here in Sudbury. \nCome cheer on Sudbury during their home opener! \nKids under 11 are free.
URL:https://ncrd.ca/event/home-game-ncrd-vs-renegade-derby-dames-of-alliston/
LOCATION:NORTHERN CREDIT UNION COMMUNITY CENTRE\, 300 Wessex Street\, Sudbury\, Ontario\, P3B 0G7\, Canada
CATEGORIES:Roller Derby Bout
ATTACH;FMTTYPE=image/jpeg:https://ncrd.ca/wp-content/uploads/2026/03/2.jpg
ORGANIZER;CN="NCRD Nickel City Roller Derby":MAILTO:info@ncrd.ca
END:VEVENT
BEGIN:VEVENT
DTSTART;TZID=America/Toronto:20260514T183000
DTEND;TZID=America/Toronto:20260625T200000
DTSTAMP:20260421T102711
CREATED:20260313T180425Z
LAST-MODIFIED:20260313T182754Z
UID:1646-1778783400-1782417600@ncrd.ca
SUMMARY:Roller Skating 101 - 7 Week Course - 2026 Group 1
DESCRIPTION:Over 7 weeks learn the basics of roller skating. Learn how to roller skate forwards and backwards\, different stops\, hops\, and more. \nRental gear available. \nThis intake will run for 7 weeks on Thursday nights\, from 6:30 – 8:00 pm\, starting May 14th to June 25th\, 2026. \nVisit our Skating 101 page to find out more and register! 
URL:https://ncrd.ca/event/roller-skating-101-7-week-course-2026-group-1/
LOCATION:NORTHERN CREDIT UNION COMMUNITY CENTRE\, 300 Wessex Street\, Sudbury\, Ontario\, P3B 0G7\, Canada
CATEGORIES:Skating 101
ATTACH;FMTTYPE=image/jpeg:https://ncrd.ca/wp-content/uploads/2026/03/8.jpg
ORGANIZER;CN="NCRD Nickel City Roller Derby":MAILTO:info@ncrd.ca
END:VEVENT
BEGIN:VEVENT
DTSTART;TZID=America/Toronto:20260530T190000
DTEND;TZID=America/Toronto:20260530T210000
DTSTAMP:20260421T102711
CREATED:20260313T185109Z
LAST-MODIFIED:20260313T185109Z
UID:1673-1780167600-1780174800@ncrd.ca
SUMMARY:AWAY GAME - NCRD A-Team VS The Rogues of Kingston
DESCRIPTION:Nickel City’s A team will be travelling to South Simcoe to face Kingston’s competitive team.
URL:https://ncrd.ca/event/away-game-ncrd-a-team-vs-the-rogues-of-kingston/
LOCATION:Ontario
CATEGORIES:Roller Derby Bout
ATTACH;FMTTYPE=image/jpeg:https://ncrd.ca/wp-content/uploads/2026/03/3.jpg
END:VEVENT
END:VCALENDAR