BEGIN:VCALENDAR
VERSION:2.0
PRODID:-//Nickel City Roller Derby (NCRD) - ECPv6.6.0.2//NONSGML v1.0//EN
CALSCALE:GREGORIAN
METHOD:PUBLISH
X-WR-CALNAME:Nickel City Roller Derby (NCRD)
X-ORIGINAL-URL:https://ncrd.ca
X-WR-CALDESC:Events for Nickel City Roller Derby (NCRD)
REFRESH-INTERVAL;VALUE=DURATION:PT1H
X-Robots-Tag:noindex
X-PUBLISHED-TTL:PT1H
BEGIN:VTIMEZONE
TZID:America/Toronto
BEGIN:DAYLIGHT
TZOFFSETFROM:-0500
TZOFFSETTO:-0400
TZNAME:EDT
DTSTART:20260308T070000
END:DAYLIGHT
BEGIN:STANDARD
TZOFFSETFROM:-0400
TZOFFSETTO:-0500
TZNAME:EST
DTSTART:20261101T060000
END:STANDARD
END:VTIMEZONE
BEGIN:VEVENT
DTSTART;TZID=America/Toronto:20260514T183000
DTEND;TZID=America/Toronto:20260625T200000
DTSTAMP:20260421T114600
CREATED:20260313T180425Z
LAST-MODIFIED:20260313T182754Z
UID:1646-1778783400-1782417600@ncrd.ca
SUMMARY:Roller Skating 101 - 7 Week Course - 2026 Group 1
DESCRIPTION:Over 7 weeks learn the basics of roller skating. Learn how to roller skate forwards and backwards\, different stops\, hops\, and more. \nRental gear available. \nThis intake will run for 7 weeks on Thursday nights\, from 6:30 – 8:00 pm\, starting May 14th to June 25th\, 2026. \nVisit our Skating 101 page to find out more and register! 
URL:https://ncrd.ca/event/roller-skating-101-7-week-course-2026-group-1/
LOCATION:NORTHERN CREDIT UNION COMMUNITY CENTRE\, 300 Wessex Street\, Sudbury\, Ontario\, P3B 0G7\, Canada
CATEGORIES:Skating 101
ATTACH;FMTTYPE=image/jpeg:https://ncrd.ca/wp-content/uploads/2026/03/8.jpg
ORGANIZER;CN="NCRD Nickel City Roller Derby":MAILTO:info@ncrd.ca
END:VEVENT
BEGIN:VEVENT
DTSTART;TZID=America/Toronto:20260605T193000
DTEND;TZID=America/Toronto:20260605T213000
DTSTAMP:20260421T114600
CREATED:20260313T183350Z
LAST-MODIFIED:20260313T183350Z
UID:1661-1780687800-1780695000@ncrd.ca
SUMMARY:Roller Disco - Open Roller Skate Night - June 5 - Adults Only
DESCRIPTION:Music. Lights. Roller Skate! \nCome roller disco skate with us for this special event geared for adults! \n\nAdults only for this particular disco event\nMake it a date night <3\nRoller skates\, rollerblades\, and protective gear available but limited\nOnly $15! (payments via cash or e-transfer sent to finances@ncrd.ca)\n\nProceeds from our Roller Disco help fund Nickel City Roller Derby. \nRoller skate rental sizes are first come first served. We encourage you to bring your own helmet as well. 
URL:https://ncrd.ca/event/roller-disco-open-roller-skate-night-june-5-adults-only/
LOCATION:NORTHERN CREDIT UNION COMMUNITY CENTRE\, 300 Wessex Street\, Sudbury\, Ontario\, P3B 0G7\, Canada
CATEGORIES:Roller Disco
ATTACH;FMTTYPE=image/jpeg:https://ncrd.ca/wp-content/uploads/2026/03/7.jpg
ORGANIZER;CN="NCRD Nickel City Roller Derby":MAILTO:info@ncrd.ca
END:VEVENT
BEGIN:VEVENT
DTSTART;TZID=America/Toronto:20260619T193000
DTEND;TZID=America/Toronto:20260619T213000
DTSTAMP:20260421T114600
CREATED:20260313T183644Z
LAST-MODIFIED:20260313T183644Z
UID:1663-1781897400-1781904600@ncrd.ca
SUMMARY:Roller Disco - Open Roller Skate Night - Sudbury Pride
DESCRIPTION:Music. Lights. Roller Skate! \nCome roller disco skate with us with this special event in partnership with Fierte Sudbury Pride! \n\nAll ages & family friendly\nMake it a date night <3\nRoller skates\, rollerblades\, and protective gear available\nPay what you can (suggested amount of $15 – payments via cash or e-transfer sent to finances@ncrd.ca)\n\nProceeds from our Roller Disco help fund Nickel City Roller Derby and Fierte Sudbury Pride. \nRoller skate rental sizes are first come first served. We encourage you to bring your own helmet as well. 
URL:https://ncrd.ca/event/roller-disco-open-roller-skate-night-sudbury-pride/
LOCATION:NORTHERN CREDIT UNION COMMUNITY CENTRE\, 300 Wessex Street\, Sudbury\, Ontario\, P3B 0G7\, Canada
CATEGORIES:Roller Disco
ATTACH;FMTTYPE=image/jpeg:https://ncrd.ca/wp-content/uploads/2026/03/6.jpg
ORGANIZER;CN="NCRD Nickel City Roller Derby":MAILTO:info@ncrd.ca
END:VEVENT
BEGIN:VEVENT
DTSTART;TZID=America/Toronto:20260620T190000
DTEND;TZID=America/Toronto:20260620T210000
DTSTAMP:20260421T114600
CREATED:20260313T185546Z
LAST-MODIFIED:20260314T180053Z
UID:1675-1781982000-1781989200@ncrd.ca
SUMMARY:HOME GAME - NCRD A-Team VS Toronto RD Allstars
DESCRIPTION:Our local Sudbury A-team will face off Toronto’s Allstars here in Sudbury. Come cheer them on! \nKids under 12 are free.
URL:https://ncrd.ca/event/home-game-ncrd-b-team-vs-the-toxins-of-toronto/
LOCATION:NORTHERN CREDIT UNION COMMUNITY CENTRE\, 300 Wessex Street\, Sudbury\, Ontario\, P3B 0G7\, Canada
CATEGORIES:Roller Derby Bout
ORGANIZER;CN="NCRD Nickel City Roller Derby":MAILTO:info@ncrd.ca
END:VEVENT
END:VCALENDAR